BEGIN:VCALENDAR
VERSION:2.0
PRODID:-//Joint Venture - ECPv6.15.20//NONSGML v1.0//EN
CALSCALE:GREGORIAN
METHOD:PUBLISH
X-WR-CALNAME:Joint Venture
X-ORIGINAL-URL:https://jointventure-msk.com
X-WR-CALDESC:Events for Joint Venture
REFRESH-INTERVAL;VALUE=DURATION:PT1H
X-Robots-Tag:noindex
X-PUBLISHED-TTL:PT1H
BEGIN:VTIMEZONE
TZID:Europe/London
BEGIN:DAYLIGHT
TZOFFSETFROM:+0000
TZOFFSETTO:+0100
TZNAME:BST
DTSTART:20250330T010000
END:DAYLIGHT
BEGIN:STANDARD
TZOFFSETFROM:+0100
TZOFFSETTO:+0000
TZNAME:GMT
DTSTART:20251026T010000
END:STANDARD
BEGIN:DAYLIGHT
TZOFFSETFROM:+0000
TZOFFSETTO:+0100
TZNAME:BST
DTSTART:20260329T010000
END:DAYLIGHT
BEGIN:STANDARD
TZOFFSETFROM:+0100
TZOFFSETTO:+0000
TZNAME:GMT
DTSTART:20261025T010000
END:STANDARD
BEGIN:DAYLIGHT
TZOFFSETFROM:+0000
TZOFFSETTO:+0100
TZNAME:BST
DTSTART:20270328T010000
END:DAYLIGHT
BEGIN:STANDARD
TZOFFSETFROM:+0100
TZOFFSETTO:+0000
TZNAME:GMT
DTSTART:20271031T010000
END:STANDARD
END:VTIMEZONE
BEGIN:VEVENT
DTSTART;TZID=Europe/London:20260520T110000
DTEND;TZID=Europe/London:20260520T123000
DTSTAMP:20260421T003055
CREATED:20260318T083950Z
LAST-MODIFIED:20260420T172835Z
UID:91-1779274800-1779280200@jointventure-msk.com
SUMMARY:Accelerating MedTech Clinical Trials.
DESCRIPTION:Undertaking clinical trials for medtech devices has traditionally been expensive and slow. In this webinar\, including a Q&A\, the team from VerIQ\, a UK-based MedTech clinical trial accelerator\, explain how their new company is transforming how clinical studies in health tech and medical devices are delivered. \nBook your place
URL:https://jointventure-msk.com/event/test-event/
LOCATION:Online
ATTACH;FMTTYPE=image/jpeg:https://jointventure-msk.com/wp-content/uploads/2026/03/AdobeStock_711851919-scaled.jpeg
END:VEVENT
END:VCALENDAR